Workbook

Sheet 2027 Budget -Draft
A1: Town of Cross Plains
A2: 2027 Budget Worksheet
B5: Jan - Dec 2020 | C5: Jan - Dec 2021 | D5: Jan - Dec 2022 | E5: Jan - Dec 2023 | F5: Jan - Dec 2024 | G5: Jan - Dec 2025 | H5: Jan - Sept 2026 | I5: 2026 Budget | J5: 2027 Budget Draft
A6: Income
A7: 100 Taxes
A8: 102 Special Assessments | B8: =-34.68 -> -34.68 | C8: =-0.55 -> -0.55 | D8: =10.24 -> 10.24 | E8: =132.11 -> 132.11 | F8: 22.1 | G8: -7339.08 | H8: -7344 | I8: 0 | J8: 0
A9: 41110 General Property Taxes | B9: =669060.46 -> 669060.46 | C9: =725484.97 -> 725484.97 | D9: =729448.51 -> 729448.51 | E9: =736184.55-1114.58 -> 735069.97 | F9: 755012.21 | G9: 790841.2 | H9: 844251.48 | I9: =793984+5495.52+45000 -> 844479.52 | J9: =+'Debt Service & Levy Calculation'!H17 -> 785987.9 | K9: Levy per worksheet - Note Lower Debt Service (CP Fire Truck paid off at end of 2026
A10: 41150 Managed Forest Land Taxes | B10: =4110.3 -> 4110.3 | C10: =4451.75 -> 4451.75 | D10: =4258.96 -> 4258.96 | E10: =4481.44 -> 4481.44 | F10: 6357.05 | G10: -1388.14 | H10: 202.62 | I10: 0 | J10: 0
A11: 41160 Prior Yrs Ommited/Refund Property Taxes | C11: =7025.59 -> 7025.59 | D11: =-328.44 -> -328.44 | E11: =3665.1 -> 3665.1 | F11: =0 -> 0 | G11: =0 -> 0 | H11: -3092.01 | I11: 0 | J11: 0
A12: 41500 Lottery Credit | B12: =13769.62 -> 13769.62 | C12: =12077.71 -> 12077.71 | D12: =17713.73 -> 17713.73 | E12: =17734.79 -> 17734.79 | F12: 19986.54 | G12: 16219.71 | H12: 15405.85 | I12: 0 | J12: 0
A13: Total 100 Taxes | B13: =(((((B7)+(B8))+(B9))+(B10))+(B11))+(B12) -> 686905.7 | C13: =(((((C7)+(C8))+(C9))+(C10))+(C11))+(C12) -> 749039.47 | D13: =(((((D7)+(D8))+(D9))+(D10))+(D11))+(D12) -> 751103 | E13: =(((((E7)+(E8))+(E9))+(E10))+(E11))+(E12) -> 761083.41 | F13: =(((((F7)+(F8))+(F9))+(F10))+(F11))+(F12) -> 781377.9 | G13: =(((((G7)+(G8))+(G9))+(G10))+(G11))+(G12) -> 798333.69 | H13: =(((((H7)+(H8))+(H9))+(H10))+(H11))+(H12) -> 849423.94 | I13: =SUM(I8:I12) -> 844479.52 | J13: =SUM(J8:J12) -> 785987.9
A14: 103 Intergovernment Revenues
A15: 43300 Other Fed Pmts(Fish & Wildlife) | B15: =2987 -> 2987 | C15: =2808 -> 2808 | D15: =2784 -> 2784 | E15: =3115 -> 3115 | F15: 2906 | G15: 2791 | H15: 2962 | I15: 2800 | J15: 2962
A16: 43310 FEMA Highway Aid | B16: =5720.44 -> 5720.44 | D16: =82569.64 -> 82569.64 | I16: 0 | J16: 0
A17: 43420 Fire Insurance Tax/2% fire dues | B17: =9049.01 -> 9049.01 | C17: =9937.31 -> 9937.31 | D17: =10115.05 -> 10115.05 | E17: =10818.21 -> 10818.21 | F17: 12773.09 | G17: 15124.94 | H17: 15858.48 | I17: 15124.94 | J17: 15858.48 | K17: Due Assumption is that all will be paid out to Fire Deparments(see expense line below, net $0)
A18: 43430 Other incl. Exempt Computer Aid | B18: =1128.09 -> 1128.09 | C18: =2733.49 -> 2733.49 | D18: =1128.09 -> 1128.09 | E18: =13.51 -> 13.51 | F18: 13.51 | G18: 13.51 | H18: 13.51 | I18: 13.51 | J18: 13.51
A19: 43533 Other Highway Aid- PECFA & FEMA | D19: =909069.88 -> 909069.88 | I19: 0 | J19: 0
A20: 43545 State Recycling Grant | B20: =3317.26 -> 3317.26 | C20: =3329.32 -> 3329.32 | D20: =3320.82 -> 3320.82 | E20: =3322.51 -> 3322.51 | F20: =3326.79 -> 3326.79 | G20: 3324.84 | H20: 3324.94 | I20: 3324.84 | J20: 3324.94
A21: 43610 Pmt for Municipal Services Aid | B21: =291.79 -> 291.79 | C21: =394.55 -> 394.55 | D21: =446.36 -> 446.36 | E21: =474.21 -> 474.21 | F21: =721.61 -> 721.61 | G21: 578.94 | H21: 586.15 | I21: 578.94 | J21: 586.15
A22: 43620 PILT-Conservation Lands | B22: =8058.87 -> 8058.87 | C22: =7556.53 -> 7556.53 | D22: =8273.4 -> 8273.4 | E22: =7367.6 -> 7367.6 | F22: 7124.35 | G22: 7188.48 | H22: 10954.15 | I22: 7188.48 | J22: =+H22 -> 10954.15
A23: 43640 Severance/yield/withdrawal tax | B23: =1461.4 -> 1461.4 | C23: =11318.56 -> 11318.56 | D23: =486.16 -> 486.16 | E23: =3140.87 -> 3140.87 | F23: =2885.92 -> 2885.92 | G23: 10855.65 | H23: 0 | I23: 0 | J23: 0 | K23: Ad Conversion Fees, never know if there will be any and how much, so budget $0.
A24: 43660 DNR Pay/Yield Tax MFL Contracts | B24: =156.08 -> 156.08 | C24: =176.77 -> 176.77 | D24: =196.18 -> 196.18 | E24: =221.18 -> 221.18 | F24: 180.7 | G24: 168.5 | H24: 0 | I24: 210 | J24: 210
A25: 43710 County Highway and Bridge Aid | C25: =171637.48 -> 171637.48 | D25: =50503.88 -> 50503.88 | I25: 0 | J25: 0
A26: 43790 OtherLocalGov't Grants(W/R2R) | B26: =28125.61 -> 28125.61 | C26: =0 -> 0 | D26: =900073.69 -> 900073.69 | F26: =600 -> 600 | G26: 1100 | H26: 0 | I26: 0 | J26: 0
A27: ATC ATC Annual Payment | E27: =86508.84 -> 86508.84 | F27: 86508.84 | G27: =86508.84 -> 86508.84 | H27: =86508.84 -> 86508.84 | I27: 86508.84 | J27: =+I27 -> 86508.84
A28: Total 103 Intergovernment Revenues | B28: =(((((((((((((B14)+(B15))+(B16))+(B17))+(B18))+(B19))+(B20))+(B21))+(B22))+(B23))+(B24))+(B25))+(B26))+(B27) -> 60295.55 | C28: =(((((((((((((C14)+(C15))+(C16))+(C17))+(C18))+(C19))+(C20))+(C21))+(C22))+(C23))+(C24))+(C25))+(C26))+(C27) -> 209892.01 | D28: =(((((((((((((D14)+(D15))+(D16))+(D17))+(D18))+(D19))+(D20))+(D21))+(D22))+(D23))+(D24))+(D25))+(D26))+(D27) -> 1968967.1 | E28: =(((((((((((((E14)+(E15))+(E16))+(E17))+(E18))+(E19))+(E20))+(E21))+(E22))+(E23))+(E24))+(E25))+(E26))+(E27) -> 114981.93 | F28: =(((((((((((((F14)+(F15))+(F16))+(F17))+(F18))+(F19))+(F20))+(F21))+(F22))+(F23))+(F24))+(F25))+(F26))+(F27) -> 117040.81 | G28: =(((((((((((((G14)+(G15))+(G16))+(G17))+(G18))+(G19))+(G20))+(G21))+(G22))+(G23))+(G24))+(G25))+(G26))+(G27) -> 127654.7 | H28: =(((((((((((((H14)+(H15))+(H16))+(H17))+(H18))+(H19))+(H20))+(H21))+(H22))+(H23))+(H24))+(H25))+(H26))+(H27) -> 120208.07 | I28: =+SUM(I15:I27) -> 115749.55 | J28: =+SUM(J15:J27) -> 120418.07
A29: 105 Licenses and Permits
A30: 44100 Business&Occupational Licenses | B30: =1159.5 -> 1159.5 | C30: =1041.6 -> 1041.6 | D30: =1118.14 -> 1118.14 | E30: =1058.5 -> 1058.5 | F30: 1049.5 | G30: 1139.5 | H30: 947.5 | I30: 1000 | J30: 1000
A31: 44200 Nonbusiness Licenses (incl dog) | B31: =1489.5 -> 1489.5 | C31: =1255 -> 1255 | D31: =1482.5 -> 1482.5 | E31: =1400 -> 1400 | F31: 1389 | G31: 1616 | H31: 1857.75 | I31: 1400 | J31: 1600
A32: 44300 Building Permits & Inspection | B32: =16815.75 -> 16815.75 | C32: =32368.52 -> 32368.52 | D32: =32313.36 -> 32313.36 | E32: =31632.44 -> 31632.44 | F32: 5815.91 | G32: 7925.52 | H32: 3394.77 | I32: 4000 | J32: 4000 | K32: Budgeted for 15% Net TCP will received from Processor
A33: 44400 Zoning Permits & Fees | B33: =750 -> 750 | C33: =1050 -> 1050 | D33: =450 -> 450 | E33: =150 -> 150 | F33: 1050 | G33: 450 | H33: 450 | I33: 500 | J33: 500
A34: 44500 Driveway Fees | B34: =1800 -> 1800 | C34: =2000 -> 2000 | D34: =1800 -> 1800 | E34: =1800 -> 1800 | F34: 600 | G34: 1000 | H34: 600 | I34: 400 | J34: 600
A35: Liquor License Publication Fee | B35: =0 -> 0 | E35: =5 -> 5 | F35: 0 | G35: 0 | H35: 156 | I35: 0 | J35: 0
A36: Total 105 Licenses and Permits | B36: =((((((B29)+(B30))+(B31))+(B32))+(B33))+(B34))+(B35) -> 22014.75 | C36: =((((((C29)+(C30))+(C31))+(C32))+(C33))+(C34))+(C35) -> 37715.12 | D36: =((((((D29)+(D30))+(D31))+(D32))+(D33))+(D34))+(D35) -> 37164 | E36: =((((((E29)+(E30))+(E31))+(E32))+(E33))+(E34))+(E35) -> 36045.94 | F36: =((((((F29)+(F30))+(F31))+(F32))+(F33))+(F34))+(F35) -> 9904.41 | G36: =((((((G29)+(G30))+(G31))+(G32))+(G33))+(G34))+(G35) -> 12131.02 | H36: =((((((H29)+(H30))+(H31))+(H32))+(H33))+(H34))+(H35) -> 7406.02 | I36: =+SUM(I30:I35) -> 7300 | J36: =+SUM(J30:J35) -> 7700
A37: 113 Interest/Div/Searches/Misc.
A38: 48110 Interest Income | B38: =955.37 -> 955.37 | C38: =596.56 -> 596.56 | D38: =4785.79 -> 4785.79 | E38: =44137.12 -> 44137.12 | F38: 102884.77 | G38: 73849.83 | H38: 55389.55 | I38: 45000 | J38: =1200000*0.0375 -> 45000 | K38: Interest rates currently at 3.75 at LRB, figured on 1.2 Million
A39: 48305 Sale of Trucks or Highway Equip | B39: 0 | C39: 0 | D39: =84898 -> 84898 | E39: 0 | F39: 0 | G39: 0 | H39: 61160 | I39: 0 | J39: 0
A40: 48600 Sponsor MHFD SAP Funds
A41: 48900 Other Misc. Revenues | B41: =151.37 -> 151.37 | C41: =10322.42 -> 10322.42 | D41: =6000 -> 6000 | E41: =2858.75 -> 2858.75 | F41: =110260 -> 110260 | G41: 24 | H41: -14 | I41: 0 | J41: 0
A42: Title Searches | B42: =475 -> 475 | C42: =1250 -> 1250 | D42: =500 -> 500 | E42: =825 -> 825 | F42: 850 | G42: 775 | H42: 950 | I42: 500 | J42: 900
...

Sheet 2027 Budget Summary
B1: Budget Summary for Town of Cross Plains
E2: Need to do Amendments
C3: 2027 | E3: 2026 | G3: % of | I3: $ of
C4: Budget | E4: Budget | G4: Change | I4: Change
A5: Revenues
B6: General Property Taxes | C6: =+'2027 Budget -Draft'!J13 -> 785987.9 | E6: =+'2027 Budget -Draft'!I9 -> 844479.52 | G6: =+(C6-E6)/C6 -> -0.074417965 | I6: =+C6-E6 -> -58491.62 | J6: CP Fire Truck Paid Off
B7: State Shared Revenue | C7: =+'2027 Budget -Draft'!J56 -> 97036.29 | E7: =+'2027 Budget -Draft'!I56 -> 95898.16 | G7: =+(C7-E7)/C7 -> 0.011728911 | I7: =+C7-E7 -> 1138.13
B8: State Highway Aid | C8: =+'2027 Budget -Draft'!J57 -> 135960.9 | E8: =+'2027 Budget -Draft'!I57 -> 123230.9 | G8: =+(C8-E8)/C8 -> 0.09362986 | I8: =+C8-E8 -> 12730
B9: Other Intergovernmental Revenues | C9: =+'2027 Budget -Draft'!J28-'2027 Budget -Draft'!J27 -> 33909.23 | E9: =+'2027 Budget -Draft'!I28-'2027 Budget -Draft'!I27 -> 29240.71 | G9: =+(C9-E9)/C9 -> 0.13767697 | I9: =+C9-E9 -> 4668.52
B10: Annual ATC Payment | C10: =+'2027 Budget -Draft'!J27 -> 86508.84 | E10: =+'2027 Budget -Draft'!I27 -> 86508.84 | G10: =+(C10-E10)/C10 -> 0 | I10: =+C10-E10 -> 0
B11: Community Center | C11: =+'2027 Budget -Draft'!J58 -> 15000 | E11: =+'2027 Budget -Draft'!I58 -> 14000 | G11: =+(C11-E11)/C11 -> 0.066666667 | I11: =+C11-E11 -> 1000
B12: Licenses and Permits | C12: =+'2027 Budget -Draft'!J36 -> 7700 | E12: =+'2027 Budget -Draft'!I36 -> 7300 | G12: =+(C12-E12)/C12 -> 0.051948052 | I12: =+C12-E12 -> 400
B13: Misc. Town Income (Park Fund) | C13: =+'2027 Budget -Draft'!J47 -> 1500 | E13: =+'2027 Budget -Draft'!I46 -> 1500 | G13: =+(C13-E13)/C13 -> 0 | I13: =+C13-E13 -> 0
B14: Interest/Dividends/Searches | C14: =+'2027 Budget -Draft'!J43 -> 45900 | E14: =+'2027 Budget -Draft'!I43 -> 45500 | G14: =+(C14-E14)/C14 -> 0.0087145969 | I14: =+C14-E14 -> 400
A15: Earned Revenues | C15: =SUM(C6:C14) -> 1209503.2 | E15: =SUM(E6:E14) -> 1247658.1 | G15: =+(C15-E15)/C15 -> -0.031545986 | I15: =+C15-E15 -> -38154.97
A16: Surplus Applied | C16: =+'2027 Budget -Draft'!J50 -> 105440.97 | E16: =+'2027 Budget -Draft'!I49+'2027 Budget -Draft'!I51+'2027 Budget -Draft'!I52 -> 329083 | G16: =+(C16-E16)/C16 -> -2.1210164 | I16: =+C16-E16 -> -223642.03 | J16: Applied Surplus to CP/Berry Fire Dept Capital Budget Items
A17: Total Revenues | C17: =+C15+C16 -> 1314944.1 | E17: =+E15+E16 -> 1576741.1 | G17: =+(C17-E17)/C17 -> -0.19909363 | I17: =+C17-E17 -> -261797
A19: Expenditures
B20: General Government | C20: =+'2027 Budget -Draft'!J115 -> 132039.01 | E20: =+'2027 Budget -Draft'!I115 -> 131789.54 | G20: =+(C20-E20)/C20 -> 0.0018893659 | I20: =+C20-E20 -> 249.47
B21: Town Assessment | C21: =+'2027 Budget -Draft'!J205 -> 12500 | E21: =+'2027 Budget -Draft'!I205 -> 16170 | G21: =+(C21-E21)/C21 -> -0.2936 | I21: =+C21-E21 -> -3670
B22: Health & Human Services | C22: =+'2027 Budget -Draft'!J184 -> 24867 | E22: =+'2027 Budget -Draft'!I184 -> 24867 | G22: =+(C22-E22)/C22 -> 0 | I22: =+C22-E22 -> 0
B23: Community Center | C23: =+'2027 Budget -Draft'!J215 -> 29992.822 | E23: =+'2027 Budget -Draft'!I215 -> 29519.73 | G23: =+(C23-E23)/C23 -> 0.015773504 | I23: =+C23-E23 -> 473.0919
B24: Trash/Recycling | C24: =+'2027 Budget -Draft'!J221 -> 102780 | E24: =+'2027 Budget -Draft'!I221 -> 128727.83 | G24: =+(C24-E24)/C24 -> -0.25245991 | I24: =+C24-E24 -> -25947.83 | J24: New Contract/and only 571 households
B25: Transportation (including Transportation Employment) | C25: =+'2027 Budget -Draft'!J180 -> 487543.56 | E25: =+'2027 Budget -Draft'!I180 -> 605767.61 | G25: =+(C25-E25)/C25 -> -0.2424892 | I25: =+C25-E25 -> -118224.05 | J25: Any $ for Old Military Road
B26: Public Safety | C26: =+'2027 Budget -Draft'!J134 -> 347428.9 | E26: =+'2027 Budget -Draft'!I134 -> 407602.61 | G26: =+(C26-E26)/C26 -> -0.17319721 | I26: =+C26-E26 -> -60173.714 | J26: Tender Replacement in 2026
B27: Capital Outlay | C27: 0 | E27: 68108 | G27: -1 | I27: =+C27-E27 -> -68108 | J27: New Truck Out fitted in 2026
B28: Debt Service | C28: =+'2027 Budget -Draft'!J201 -> 145305.9 | E28: =+'2027 Budget -Draft'!I201 -> 164188.82 | G28: =+(C28-E28)/C28 -> -0.12995288 | I28: =+C28-E28 -> -18882.92 | J28: CP Fire Truck Paid off in 2026
A29: Total Expenditures | C29: =SUM(C20:C28) -> 1282457.2 | E29: =SUM(E20:E28) -> 1576741.1 | G29: =+(C29-E29)/C29 -> -0.22946883 | I29: =SUM(I20:I28) -> -294283.95
A31: Net | C31: =+C17-C29 -> 32486.941 | E31: =+E17-E29 -> -0.0068000001

Sheet Debt Service & Levy Calculation
G1: Line B | H1: After 7/1/2005
C2: (per Budget) | E2: (per Budget) | G2: Decrease in debt | H2: Debt
A3: Originated | C3: 2027 Debt Service Levy | E3: 2026 Debt Service Levy | G3: prior to 7/1/2005
A4: 2017 | B4: New Truck | C4: =+'[1]Detailed Budget Worksheet'!R189 -> 13890.33 | E4: =+'[1]Detailed Budget Worksheet'!P189 -> 13890.33 | G4: 0 | H4: =+E4 -> 13890.33
A5: 2017 | B5: CP Fire Truck | C5: =+'[1]Detailed Budget Worksheet'!R194 -> 18882.92 | E5: 0 | G5: 0 | H5: =+E5 -> 0
A6: 2017 | B6: Stagecoarch RdRepl | C6: =+'[1]Detailed Budget Worksheet'!R191 -> 59835.31 | E6: =+'[1]Detailed Budget Worksheet'!P191 -> 59835.31 | G6: 0 | H6: =+E6 -> 59835.31
A7: 2019 | B7: MHAJFD Station | C7: =+'[1]Detailed Budget Worksheet'!R198 -> 13717.02 | E7: =+'[1]Detailed Budget Worksheet'!P198 -> 13717.02 | G7: 0 | H7: =+E7 -> 13717.02
A8: 2021 | B8: CP Fire Rapid Response Vehicle | C8: =+'[1]Detailed Budget Worksheet'!R195 -> 8294.88 | E8: =+'[1]Detailed Budget Worksheet'!P195 -> 8294.88 | G8: 0 | H8: =+C8 -> 8294.88
A9: 2022 | B9: Road Repairs | C9: =+'[1]Detailed Budget Worksheet'!R190 -> 39930.36 | E9: =+'[1]Detailed Budget Worksheet'!P190 -> 39930.36 | G9: 0 | H9: =+C9 -> 39930.36
A10: N/A/Annual | B10: Extra P Pmt | C10: =+'[1]Detailed Budget Worksheet'!R186 -> 9638 | E10: =+'[1]Detailed Budget Worksheet'!P186 -> 9638 | G10: =+E10-C10 -> 0 | H10: 0 | J10: Extra Principal Payment not to be included in the Levy Limit Worksheet Per WI DOR
C11: =SUM(C4:C10) -> 164188.82 | E11: =SUM(E4:E10) -> 145305.9 | G11: =SUM(G4:G10) -> 0 | H11: =SUM(H4:H10) -> 135667.9
H12: =SUM(H11:H11) -> 135667.9 | J12: Total Debt after 7/1/2005 is added into calculation the allowable levy limit
H15: 650320 | J15: Levy Limit Worksheet; 2026 Levy before Adjustments
H16: 135667.9 | J16: Adjustment for Debt Service (after 7/1/2025)
H17: =+H15+H16 -> 785987.9 | J17: Total Town Levy

Sheet Trash & Recycling
H1: 96 | I1: Gallon | J1: 571 | K1: household | L1: Number of Residence per Assessor
D2: 2027 | E2: 0.05 | F2: 5 year Term | H2: 65 | I2: Smaller Option
C3: Republic | D3: 11.25 | E3: Trash
D4: 3.75 | E4: Recyle | I4: =4.46+9.6 -> 14.06 | J4: Current | L4: =+C3 -> Republic | O4: Pulled into 2027 Budget
D5: =+D3+D4 -> 15 | E5: per household/month | F5: 17.25 | L5: =+D5*J1*12 -> 102780 | M5: 2027 | O5: =+D3*J1*12 -> 77085 | P5: Trash
F6: Trash Every Week | L6: =+L5*1.05 -> 107919 | M6: 2028 | O6: =+D4*J1*12 -> 25695 | P6: Recycle
O7: =SUM(O5:O6) -> 102780 | P7: Total
D8: 2027 | E8: 0.04 | F8: 5 year Term | G8: 10 Year | H8: 0.035
C9: Pelliterri | D9: 10.75 | E9: Trash | F9: 10 Year Term | G9: 10.25
D10: 6 | E10: Recyle | G10: 5.5
D11: =+D9+D10 -> 16.75 | E11: per household/month | F11: =+D11+4 -> 20.75 | G11: =SUM(G9:G10) -> 15.75 | L11: =+C9 -> Pelliterri
F12: Trash Every Week | L12: =+D11*J1*12 -> 114771 | M12: 2027
D13: Fuel Charge? | L13: =+L12*1.04 -> 119361.84 | M13: 2028
E14: > $4.00/Gallon Surcharge in place
L16: =+L12-L5 -> 11991 | M16: Difference | N16: 2027
